BEGIN:VCALENDAR
PRODID:NingEventWidget-v1
VERSION:2.0
METHOD:PUBLISH
BEGIN:VTIMEZONE
TZID:America/New_York
X-LIC-LOCATION:America/New_York
BEGIN:DAYLIGHT
TZOFFSETFROM:-0500
TZOFFSETTO:-0400
TZNAME:EDT
DTSTART:19700308T020000
RRULE:FREQ=YEARLY;BYMONTH=3;BYDAY=2SU
END:DAYLIGHT
BEGIN:STANDARD
TZOFFSETFROM:-0400
TZOFFSETTO:-0500
TZNAME:EST
DTSTART:19701101T020000
RRULE:FREQ=YEARLY;BYMONTH=11;BYDAY=1SU
END:STANDARD
END:VTIMEZONE
BEGIN:VEVENT
UID:2022678:Event:1225231
DTSTAMP:20260425T231826Z
SUMMARY:7th Anniversary \"Let Your Hair Down\" Event for NAAF
DESCRIPTION:COME RAISE A GLASS FOR NAAF!  You are cordially invited to
  an evening of fabulous food, drinks, dancing, auctions and fun! Enjoy
  open bar beer & wine, fabulous hors d’oeuvres, gourmet dinner stati
 ons and our BRAND NEW Dessert Bar!   $70 per person/$135 per couple $2
 0 kids ages 5-14  ATTIRE:: festive chic!  MR. JASON JANI, CEO of SCE E
 vent Group and one of the most sought after event producers & DJs in t
 he biz will be rockin’ the house!  SPECIAL GUEST SPEAKER: Mr. John R
 ich, Photographer & Artist, Creator of “Strangers Who Stare- Looking
  at Alopecia” with a Special Viewing at Event.   Special video prese
 ntation from Dory Kranz, CEO, NAAF and Dr. Angela Christiano  Stop by 
 our “GLAM CORNER” featuring Kayla Martell, Miss Delaware 2010, Chr
 istie Maruka, CEO of Fashion Fix & Juan DeJesus, M.A.C. makeup artist 
 for mini makeovers, consults and demos. Face painting and tattoos for 
 the kids!  NAAF is working hard every day to support, educate and find
  an acceptable cure or treatment for alopecia areata through our Treat
 ment Development Program, but we still need your help. Together we can
  make a difference!  ** Space is limited so purchase your tickets asap
 ! **  ** Event is open to children in the Alopecia Areata Community **
    Please purchase your tickets here: https://support.naaf.org/ocean/e
 vents/let-your-hair-down-charity-event-benefiting-naaf/e38867  We can
 t wait to see you there!\n\nFor more information visit https://alope
 ciaworld.com/events/7th-anniversary-let-your-hair-down-event-for-naaf
DTSTART;TZID=America/New_York:20141205T183000
DTEND;TZID=America/New_York:20141205T233000
CATEGORIES:fundraiser
LOCATION:The Renaissance
WEBSITE:http://www.falcoscatering.com/renaissance.asp
URL:http://www.falcoscatering.com/renaissance.asp
CONTACT:732-280-2010
ORGANIZER;CN="Donna Hakim":https://alopeciaworld.com/profile/DonnaHaki
 m
ATTACH;FMTTYPE="image/jpeg":http://storage.ning.com/topology/rest/1.0/
 file/get/2257544041?profile=original
ATTENDEE;ROLE=REQ-PARTICIPANT;PARTSTAT=ACCEPTED;RSVP=TRUE;CN="Donna Ha
 kim":https://alopeciaworld.com/profile/DonnaHakim
ATTENDEE;ROLE=REQ-PARTICIPANT;PARTSTAT=TENTATIVE;RSVP=TRUE;CN="Lisa De
 lCasale":https://alopeciaworld.com/profile/LisaDelCasale
END:VEVENT
END:VCALENDAR
