BEGIN:VCALENDAR
PRODID:NingEventWidget-v1
VERSION:2.0
METHOD:PUBLISH
BEGIN:VTIMEZONE
TZID:America/New_York
X-LIC-LOCATION:America/New_York
BEGIN:DAYLIGHT
TZOFFSETFROM:-0500
TZOFFSETTO:-0400
TZNAME:EDT
DTSTART:19700308T020000
RRULE:FREQ=YEARLY;BYMONTH=3;BYDAY=2SU
END:DAYLIGHT
BEGIN:STANDARD
TZOFFSETFROM:-0400
TZOFFSETTO:-0500
TZNAME:EST
DTSTART:19701101T020000
RRULE:FREQ=YEARLY;BYMONTH=11;BYDAY=1SU
END:STANDARD
END:VTIMEZONE
BEGIN:VEVENT
UID:2022678:Event:1988412
DTSTAMP:20260426T002505Z
SUMMARY:Alopecia Areata Support Group
DESCRIPTION:This support group is an ideal place to come and talk with
  others about living with alopecia areata. It is the place to gain kn
 owledge from those who have had years of experience. With time comes t
 he ability to deal and cope with your own hair loss or that of a loved
  one. We are very fortunate that so many are willing to bring to the m
 eetings their wisdom and advice to share in a direct but compassionate
  manner that reflects understanding and concern. The support group exp
 erience has its rewards for all who attend.\n\nFor more information vi
 sit https://alopeciaworld.com/events/alopecia-areata-support-group-5
DTSTART;TZID=America/New_York:20251118T190000
DTEND;TZID=America/New_York:20251118T210000
CATEGORIES:meeting
LOCATION:Corewell Health Beaumont Troy Hospital Family Medicine Outpat
 ient Services, Classroom B (First Floor)
WEBSITE:
URL:
CONTACT:jbyszkowski@wowway.com
ORGANIZER;CN="Jan B.":https://alopeciaworld.com/profile/JanB
ATTACH;FMTTYPE="image/jpeg":
ATTENDEE;ROLE=REQ-PARTICIPANT;PARTSTAT=ACCEPTED;RSVP=TRUE;CN="Jan B.":
 https://alopeciaworld.com/profile/JanB
END:VEVENT
END:VCALENDAR
