BEGIN:VCALENDAR
PRODID:NingEventWidget-v1
VERSION:2.0
METHOD:PUBLISH
BEGIN:VTIMEZONE
TZID:America/New_York
X-LIC-LOCATION:America/New_York
BEGIN:DAYLIGHT
TZOFFSETFROM:-0500
TZOFFSETTO:-0400
TZNAME:EDT
DTSTART:19700308T020000
RRULE:FREQ=YEARLY;BYMONTH=3;BYDAY=2SU
END:DAYLIGHT
BEGIN:STANDARD
TZOFFSETFROM:-0400
TZOFFSETTO:-0500
TZNAME:EST
DTSTART:19701101T020000
RRULE:FREQ=YEARLY;BYMONTH=11;BYDAY=1SU
END:STANDARD
END:VTIMEZONE
BEGIN:VEVENT
UID:2022678:Event:1310743
DTSTAMP:20260425T185911Z
SUMMARY:Alopecia UK Big Weekend 2016
DESCRIPTION:Come along to Alopecia UK's third 'Big Weekend' where we w
 ill have a series of events for those affected by alopecia. This year'
 s host city is Glasgow.  We have four individual events that make up 
 the weekend and you can choose to attend either one, two, three or all
  four.\n\n\n\nFor more information visit https://alopeciaworld.com/eve
 nts/alopecia-uk-big-weekend-2016
DTSTART;TZID=America/New_York:20160902T000000
DTEND;TZID=America/New_York:20160904T235900
CATEGORIES:radisson, blu, hotel, glasgow
LOCATION:Radisson Blu
WEBSITE:http://www.alopeciaonline.org.uk/big_weekend.asp
URL:http://www.alopeciaonline.org.uk/big_weekend.asp
CONTACT:
ORGANIZER:Alopecia UK
ATTACH;FMTTYPE="image/jpeg":http://storage.ning.com/topology/rest/1.0/
 file/get/2257590723?profile=original
ATTENDEE;ROLE=REQ-PARTICIPANT;PARTSTAT=ACCEPTED;RSVP=TRUE;CN="Cheryl, 
 Co-founder":https://alopeciaworld.com/profile/cherylcarvery
ATTENDEE;ROLE=REQ-PARTICIPANT;PARTSTAT=TENTATIVE;RSVP=TRUE;CN=Roger:ht
 tps://alopeciaworld.com/profile/Roger
END:VEVENT
END:VCALENDAR
