BEGIN:VCALENDAR
PRODID:NingEventWidget-v1
VERSION:2.0
METHOD:PUBLISH
BEGIN:VTIMEZONE
TZID:America/New_York
X-LIC-LOCATION:America/New_York
BEGIN:DAYLIGHT
TZOFFSETFROM:-0500
TZOFFSETTO:-0400
TZNAME:EDT
DTSTART:19700308T020000
RRULE:FREQ=YEARLY;BYMONTH=3;BYDAY=2SU
END:DAYLIGHT
BEGIN:STANDARD
TZOFFSETFROM:-0400
TZOFFSETTO:-0500
TZNAME:EST
DTSTART:19701101T020000
RRULE:FREQ=YEARLY;BYMONTH=11;BYDAY=1SU
END:STANDARD
END:VTIMEZONE
BEGIN:VEVENT
UID:2022678:Event:997103
DTSTAMP:20260426T003210Z
SUMMARY:America's Next Top Alopecia Model Search 2013
DESCRIPTION:IT IS FINALLY HERE.. Announcing \"Americas Next Top Alopec
 ia Model Search 2013\"\nWatch the video here http://www.youtube.com/wa
 tch?v=_n5anO-t56E\nor visit http://www.peggyknight.com\n\nFor more inf
 ormation visit https://alopeciaworld.com/events/americas-next-top-alop
 ecia-model-search-2013
DTSTART;TZID=America/New_York:20121213T000000
DTEND;TZID=America/New_York:20130131T234500
CATEGORIES:promotional, event
LOCATION:http://www.peggyknight.com
WEBSITE:http://www.peggyknight.com
URL:http://www.peggyknight.com
CONTACT:
ORGANIZER:Peggy Knight / Follea
ATTACH;FMTTYPE="image/jpeg":http://storage.ning.com/topology/rest/1.0/
 file/get/2257458678?profile=original
ATTENDEE;ROLE=REQ-PARTICIPANT;PARTSTAT=ACCEPTED;RSVP=TRUE;CN="Mercedes
  Maria Butler":https://alopeciaworld.com/profile/MercedesMariaButler44
 7
ATTENDEE;ROLE=REQ-PARTICIPANT;PARTSTAT=ACCEPTED;RSVP=TRUE;CN="Peggy Kn
 ight":https://alopeciaworld.com/profile/PeggyKnight
END:VEVENT
END:VCALENDAR
