BEGIN:VCALENDAR
PRODID:NingEventWidget-v1
VERSION:2.0
METHOD:PUBLISH
BEGIN:VTIMEZONE
TZID:America/New_York
X-LIC-LOCATION:America/New_York
BEGIN:DAYLIGHT
TZOFFSETFROM:-0500
TZOFFSETTO:-0400
TZNAME:EDT
DTSTART:19700308T020000
RRULE:FREQ=YEARLY;BYMONTH=3;BYDAY=2SU
END:DAYLIGHT
BEGIN:STANDARD
TZOFFSETFROM:-0400
TZOFFSETTO:-0500
TZNAME:EST
DTSTART:19701101T020000
RRULE:FREQ=YEARLY;BYMONTH=11;BYDAY=1SU
END:STANDARD
END:VTIMEZONE
BEGIN:VEVENT
UID:2022678:Event:969305
DTSTAMP:20260425T232809Z
SUMMARY:Angel Hair for Kids Luncheon Gala in Mississauga, ON
DESCRIPTION:Angel Hair for Kids® is a program of A Child’s Voice Fo
 undation® that provides wigs and hair loss solutions to financially d
 isadvantaged children in Canada, who have lost their hair due to medic
 al conditions and/or treatments. Using hair that is generously donated
  to the program, the foundation can create wigs and hair systems and p
 rovide them at no cost to the child’s family. It takes 10-15 donated
  ponytails to make one hair prosthesis; $800 to $1000 is budgeted by t
 he foundation to cover manufacturing and related costs.\nOn Sunday, No
 vember 25th, 2012 from 11:00 am to 3:30 pm, Angel Hair for Kids Progra
 m is hosting a fundraising event at the Renaissance by the Creek Conve
 ntion Centre. This delightful day for adults and children will include
 :\nMattel Toys and Crafts StationMini ManicuresFun with Hair: Colourfu
 l Extensions and Wig StationFashion Hair ShowFull course luncheon…an
 d so much more!\nTicket prices are only $75 for adults and $45 for chi
 ldren under the age of 15 .\nHosted by Canadian celebrity Adamo Ruggie
 ro (host of YTV's The Next Star & Degrassi Alumni), with other celebri
 ty appearances by Degrassi's Melinda Shankar, celebrity stylist Marc A
 nthony, and more.\nIf you are interested in attending or sponsoring th
 e event, please contact me via email at sochicevents@mail.com.\n\nFor 
 more information visit https://alopeciaworld.com/events/angel-hair-for
 -kids-luncheon-gala-in-mississauga-on
DTSTART;TZID=America/New_York:20121125T110000
DTEND;TZID=America/New_York:20121125T153000
CATEGORIES:fundraiser, to, purchase, wigs, for, underprivileged, child
 ren
LOCATION:Renaissance by the Creek Convention Centre (427/Dundas)
WEBSITE:http://www.acvf.ca/index.php/our-programs/angel-hair-for-kids/
URL:http://www.acvf.ca/index.php/our-programs/angel-hair-for-kids/
CONTACT:
ORGANIZER:Dawn & the event committee with Angel Hair for Kids
ATTACH;FMTTYPE="image/jpeg":http://storage.ning.com/topology/rest/1.0/
 file/get/2257444682?profile=original
ATTENDEE;ROLE=REQ-PARTICIPANT;PARTSTAT=ACCEPTED;RSVP=TRUE;CN=Dawn:http
 s://alopeciaworld.com/profile/Dawn956
END:VEVENT
END:VCALENDAR
