BEGIN:VCALENDAR
PRODID:NingEventWidget-v1
VERSION:2.0
METHOD:PUBLISH
BEGIN:VTIMEZONE
TZID:America/New_York
X-LIC-LOCATION:America/New_York
BEGIN:DAYLIGHT
TZOFFSETFROM:-0500
TZOFFSETTO:-0400
TZNAME:EDT
DTSTART:19700308T020000
RRULE:FREQ=YEARLY;BYMONTH=3;BYDAY=2SU
END:DAYLIGHT
BEGIN:STANDARD
TZOFFSETFROM:-0400
TZOFFSETTO:-0500
TZNAME:EST
DTSTART:19701101T020000
RRULE:FREQ=YEARLY;BYMONTH=11;BYDAY=1SU
END:STANDARD
END:VTIMEZONE
BEGIN:VEVENT
UID:2022678:Event:1160850
DTSTAMP:20260426T002504Z
SUMMARY:Bald Women Rock Conference 2014
DESCRIPTION:Beautiful, Bold, Bald Women and Sisters With Alopecia Grou
 p invite you to the \" Bald Women Rock 2014  Conference a three day 
 conference designed to empower and inspire  women living with Alopeci
 a and hair loss in general. Conference Fee will include Friday Banquet
  with Opening Speaker Latina Sethman- Benthall, Saturday Empowerment I
 nteractive Workshops with Aleathia Brown, Tamela Gilkes, Nicole Wright
 , and Evangelist Dina Marrow, Saturday evening Gala and Dance with Fai
 th Renee Spells, and Sunday Morning Inspiration with Special Guest San
 dra Dubose-Gibson  and Special performance by praise dancers \" Divin
 e Ladies of the Mine\" Register for Bald Women Rock Conference 2014 @ 
 BaldWomenRock 2014.Eventbrite.com \n\nFor more information visit http
 s://alopeciaworld.com/events/bald-women-rock-conference-2014
DTSTART;TZID=America/New_York:20140919T150000
DTEND;TZID=America/New_York:20140921T130000
CATEGORIES:conference
LOCATION:Embassy Suites Hampton Roads-Hotel Spa and Convention Center
WEBSITE:http://www.EmbassySuitesHampton.com
URL:http://www.EmbassySuitesHampton.com
CONTACT:Jameelah19@gmail.com
ORGANIZER:Beautiful, Bold, Bald Women of Hampton VA and Sisters With A
 lopecia
ATTACH;FMTTYPE="image/jpeg":http://storage.ning.com/topology/rest/1.0/
 file/get/2257516006?profile=original
ATTENDEE;ROLE=REQ-PARTICIPANT;PARTSTAT=ACCEPTED;RSVP=TRUE;CN="Jameelah
  Fernanders":https://alopeciaworld.com/profile/JameelahFernanders
ATTENDEE;ROLE=REQ-PARTICIPANT;PARTSTAT=TENTATIVE;RSVP=TRUE;CN=Olivia:h
 ttps://alopeciaworld.com/profile/Olivia927
ATTENDEE;ROLE=REQ-PARTICIPANT;PARTSTAT=TENTATIVE;RSVP=TRUE;CN=Courtney
 l814:https://alopeciaworld.com/profile/Courtneyl814
ATTENDEE;ROLE=REQ-PARTICIPANT;PARTSTAT=TENTATIVE;RSVP=TRUE;CN=Jenae:ht
 tps://alopeciaworld.com/profile/Jenae
END:VEVENT
END:VCALENDAR
