BEGIN:VCALENDAR
PRODID:NingEventWidget-v1
VERSION:2.0
METHOD:PUBLISH
BEGIN:VTIMEZONE
TZID:America/New_York
X-LIC-LOCATION:America/New_York
BEGIN:DAYLIGHT
TZOFFSETFROM:-0500
TZOFFSETTO:-0400
TZNAME:EDT
DTSTART:19700308T020000
RRULE:FREQ=YEARLY;BYMONTH=3;BYDAY=2SU
END:DAYLIGHT
BEGIN:STANDARD
TZOFFSETFROM:-0400
TZOFFSETTO:-0500
TZNAME:EST
DTSTART:19701101T020000
RRULE:FREQ=YEARLY;BYMONTH=11;BYDAY=1SU
END:STANDARD
END:VTIMEZONE
BEGIN:VEVENT
UID:2022678:Event:974136
DTSTAMP:20260426T003210Z
SUMMARY:Beautiful, Bold, Bald Women
DESCRIPTION:COME OUT TO OUR 2'ND SUPPORT GROUP POTLUCK LUNCH,BRING YOU
 R FAVORITE DISH AND SHARE YOUR THOUGHT'S ABOUT ALOPECIA AND DATING,,IT
  WILL BE FUN IT WILL BE AT 120 OLD HAMPTON LANE @1PM TO 3PM...SO COME 
 ON GET OUT AND SPREAD SOME ALOPECIA LOVE<3 <3\n\nFor more information 
 visit https://alopeciaworld.com/events/beautiful-bold-bald-women
DTSTART;TZID=America/New_York:20121020T130000
DTEND;TZID=America/New_York:20121020T150000
CATEGORIES:"bbbw.", support, group, in, hampton, tidewater, "areas!!!!
 !"
LOCATION:120 OLD HAMPTON LANE HAMPTON VA,23669
WEBSITE:http://latina.sethman@yahoo.com
URL:http://latina.sethman@yahoo.com
CONTACT:757254-9729
ORGANIZER;CN="Latina Sethman-Benthall":https://alopeciaworld.com/profi
 le/LatinaSethmanBenthall
ATTACH;FMTTYPE="image/jpeg":http://storage.ning.com/topology/rest/1.0/
 file/get/2257443861?profile=original
ATTENDEE;ROLE=REQ-PARTICIPANT;PARTSTAT=ACCEPTED;RSVP=TRUE;CN="Latina S
 ethman-Benthall":https://alopeciaworld.com/profile/LatinaSethmanBentha
 ll
END:VEVENT
END:VCALENDAR
