BEGIN:VCALENDAR
PRODID:NingEventWidget-v1
VERSION:2.0
METHOD:PUBLISH
BEGIN:VTIMEZONE
TZID:America/New_York
X-LIC-LOCATION:America/New_York
BEGIN:DAYLIGHT
TZOFFSETFROM:-0500
TZOFFSETTO:-0400
TZNAME:EDT
DTSTART:19700308T020000
RRULE:FREQ=YEARLY;BYMONTH=3;BYDAY=2SU
END:DAYLIGHT
BEGIN:STANDARD
TZOFFSETFROM:-0400
TZOFFSETTO:-0500
TZNAME:EST
DTSTART:19701101T020000
RRULE:FREQ=YEARLY;BYMONTH=11;BYDAY=1SU
END:STANDARD
END:VTIMEZONE
BEGIN:VEVENT
UID:2022678:Event:1310839
DTSTAMP:20260425T231452Z
SUMMARY:CANAAF National Conference
DESCRIPTION:The Canadian Alopecia Areata Foundation - CANAAF National 
 Conference                                        
                                \nCANAAF is pleased to 
 offer our community a full conference this year. COME TOGETHER 2016,
  CANAAF's sixth annual event, will be held at the Delta Toronto East H
 otel on  the weekend of July 22nd to 24th, 2016. \n\nCANAAF guests 
 will receive a discounted rate on their rooms at the Delta Toronto Eas
 t Hotel . Reservation must be made by June 21, 2016 to receive the CA
 NAAF discount.\n\nFor more information contact: \nhttp://www.canaaf.o
 rg/\n\n\nFor more information visit https://alopeciaworld.com/events/c
 anaaf-national-conference
DTSTART;TZID=America/New_York:20160722T000000
DTEND;TZID=America/New_York:20160724T235900
CATEGORIES:conference
LOCATION:Delta Toronto East Hotel and Conference Centre
WEBSITE:http://www.canaaf.org/
URL:http://www.canaaf.org/
CONTACT:Email:  info@canaaf.org
ORGANIZER:CANAAF
ATTACH;FMTTYPE="image/jpeg":http://storage.ning.com/topology/rest/1.0/
 file/get/2257591522?profile=original
ATTENDEE;ROLE=REQ-PARTICIPANT;PARTSTAT=TENTATIVE;RSVP=TRUE;CN="Cheryl,
  Co-founder":https://alopeciaworld.com/profile/cherylcarvery
END:VEVENT
END:VCALENDAR
