BEGIN:VCALENDAR
PRODID:NingEventWidget-v1
VERSION:2.0
METHOD:PUBLISH
BEGIN:VTIMEZONE
TZID:America/New_York
X-LIC-LOCATION:America/New_York
BEGIN:DAYLIGHT
TZOFFSETFROM:-0500
TZOFFSETTO:-0400
TZNAME:EDT
DTSTART:19700308T020000
RRULE:FREQ=YEARLY;BYMONTH=3;BYDAY=2SU
END:DAYLIGHT
BEGIN:STANDARD
TZOFFSETFROM:-0400
TZOFFSETTO:-0500
TZNAME:EST
DTSTART:19701101T020000
RRULE:FREQ=YEARLY;BYMONTH=11;BYDAY=1SU
END:STANDARD
END:VTIMEZONE
BEGIN:VEVENT
UID:2022678:Event:1240486
DTSTAMP:20260426T003338Z
SUMMARY:Free Women's Hair Loss Seminar - Sacramento California  - Meet
  Kayla Martell
DESCRIPTION:\n\n\nFor more information visit https://alopeciaworld.com
 /events/free-women-s-hair-loss-seminar-sacramento-california-meet-kayl
 a
DTSTART;TZID=America/New_York:20150204T183000
DTEND;TZID=America/New_York:20150204T203000
CATEGORIES:"women's", hair, loss, seminar, -, sacramento, california, 
 meet, kayla, martell
LOCATION:Sacramento California
WEBSITE:http://www.elitevrhair.com/special-events
URL:http://www.elitevrhair.com/special-events
CONTACT:916-989-4247
ORGANIZER;CN=HAIRDOCDEB:https://alopeciaworld.com/profile/HAIRDOCDEB
ATTACH;FMTTYPE="image/jpeg":http://storage.ning.com/topology/rest/1.0/
 file/get/2257550416?profile=original
ATTENDEE;ROLE=REQ-PARTICIPANT;PARTSTAT=ACCEPTED;RSVP=TRUE;CN=HAIRDOCDE
 B:https://alopeciaworld.com/profile/HAIRDOCDEB
END:VEVENT
END:VCALENDAR
