BEGIN:VCALENDAR
PRODID:NingEventWidget-v1
VERSION:2.0
METHOD:PUBLISH
BEGIN:VTIMEZONE
TZID:America/New_York
X-LIC-LOCATION:America/New_York
BEGIN:DAYLIGHT
TZOFFSETFROM:-0500
TZOFFSETTO:-0400
TZNAME:EDT
DTSTART:19700308T020000
RRULE:FREQ=YEARLY;BYMONTH=3;BYDAY=2SU
END:DAYLIGHT
BEGIN:STANDARD
TZOFFSETFROM:-0400
TZOFFSETTO:-0500
TZNAME:EST
DTSTART:19701101T020000
RRULE:FREQ=YEARLY;BYMONTH=11;BYDAY=1SU
END:STANDARD
END:VTIMEZONE
BEGIN:VEVENT
UID:2022678:Event:1311246
DTSTAMP:20260425T221908Z
SUMMARY:International Alopecia Day
DESCRIPTION:The first Saturday in August, join in the fun of our annua
 l event! Celebrate and raise public awareness of Alopecia Areata. Orga
 nize an event where you live. See \"What is this Group About...\"\n\nF
 or more information visit https://alopeciaworld.com/events/internation
 al-alopecia-day
DTSTART;TZID=America/New_York:20160806T000000
DTEND;TZID=America/New_York:20160806T235900
CATEGORIES:awareness, campaign
LOCATION:Worldwide
WEBSITE:http://www.alopeciaworld.net/group/internationalalopeciaday
URL:http://www.alopeciaworld.net/group/internationalalopeciaday
CONTACT:
ORGANIZER:
ATTACH;FMTTYPE="image/jpeg":http://storage.ning.com/topology/rest/1.0/
 file/get/2257591285?profile=original
ATTENDEE;ROLE=REQ-PARTICIPANT;PARTSTAT=ACCEPTED;RSVP=TRUE;CN=Roger:htt
 ps://alopeciaworld.com/profile/Roger
ATTENDEE;ROLE=REQ-PARTICIPANT;PARTSTAT=ACCEPTED;RSVP=TRUE;CN="Cheryl, 
 Co-founder":https://alopeciaworld.com/profile/cherylcarvery
END:VEVENT
END:VCALENDAR
