BEGIN:VCALENDAR
PRODID:NingEventWidget-v1
VERSION:2.0
METHOD:PUBLISH
BEGIN:VTIMEZONE
TZID:America/New_York
X-LIC-LOCATION:America/New_York
BEGIN:DAYLIGHT
TZOFFSETFROM:-0500
TZOFFSETTO:-0400
TZNAME:EDT
DTSTART:19700308T020000
RRULE:FREQ=YEARLY;BYMONTH=3;BYDAY=2SU
END:DAYLIGHT
BEGIN:STANDARD
TZOFFSETFROM:-0400
TZOFFSETTO:-0500
TZNAME:EST
DTSTART:19701101T020000
RRULE:FREQ=YEARLY;BYMONTH=11;BYDAY=1SU
END:STANDARD
END:VTIMEZONE
BEGIN:VEVENT
UID:2022678:Event:1333458
DTSTAMP:20260425T200222Z
SUMMARY:Let's Talk Inflammatory Health
DESCRIPTION:Hi Everyone!  \nA very well respected member aligned with
  my corporate Health Navigation work has flown in from California to T
 oronto and will be leading a Meet and Greet alongside a Chronic Pain D
 octor to share and support on nutrition, strategies and natural food
  alternatives.  If you are interested in attendance please let me kno
 w.\nI will also be bringing two of my newest budding young entrepreneu
 rs to talk about: \n1. Custom Wigs\n2. Kombucha\n3. Natural Perfume\n
 Please email me if you would like more details.\nMichelle Francis\nThe
  Health Care Navigator\n2Jade7@gmail.com\n\n\nFor more information vis
 it https://alopeciaworld.com/events/let-s-talk-inflammatory-health
DTSTART;TZID=America/New_York:20160818T183000
DTEND;TZID=America/New_York:20160818T211500
CATEGORIES:informational, discussion, -, meet, "&", greet
LOCATION:TBD - Central Toronto
WEBSITE:
URL:
CONTACT:
ORGANIZER;CN=HealthCareNavigator:https://alopeciaworld.com/profile/Hea
 lthCareNavigator
ATTACH;FMTTYPE="image/jpeg":
ATTENDEE;ROLE=REQ-PARTICIPANT;PARTSTAT=ACCEPTED;RSVP=TRUE;CN=HealthCar
 eNavigator:https://alopeciaworld.com/profile/HealthCareNavigator
END:VEVENT
END:VCALENDAR
