BEGIN:VCALENDAR
PRODID:NingEventWidget-v1
VERSION:2.0
METHOD:PUBLISH
BEGIN:VTIMEZONE
TZID:America/New_York
X-LIC-LOCATION:America/New_York
BEGIN:DAYLIGHT
TZOFFSETFROM:-0500
TZOFFSETTO:-0400
TZNAME:EDT
DTSTART:19700308T020000
RRULE:FREQ=YEARLY;BYMONTH=3;BYDAY=2SU
END:DAYLIGHT
BEGIN:STANDARD
TZOFFSETFROM:-0400
TZOFFSETTO:-0500
TZNAME:EST
DTSTART:19701101T020000
RRULE:FREQ=YEARLY;BYMONTH=11;BYDAY=1SU
END:STANDARD
END:VTIMEZONE
BEGIN:VEVENT
UID:2022678:Event:1988104
DTSTAMP:20260419T095147Z
SUMMARY:Makeup Skills for Alopecia: Lashes, Base, and Contour with Con
 fidence
DESCRIPTION:Wednesday, September 17, 2025 \r\n 7:00 p.m. EDT / 6:00 p
 .m. CDT / 4:00 p.m. PDT\r\n\r\n\r\n\r\nJoin Keya Trammell and Abby And
 rew—members of the alopecia areata community and featured presenters
  at NAAF’s annual conference—for a free, 60-minute webinar hosted 
 by the National Alopecia Areata Foundation. \r\n\r\nLearn how to apply
  lashes, blend foundation, and contour with confidence using technique
 s tailored for individuals living with alopecia areata.\r\n\r\nRegistr
 ation for this webinar is free.\r\nRegister Here:  \r\nhttps://us02w
 eb.zoom.us/webinar/register/1117568558479/WN_xds7j_meTne7HTwu2MNtxg#/r
 egistration\n\nFor more information visit https://alopeciaworld.com/ev
 ents/makeup-skills-for-alopecia-lashes-base-and-contour-with-confidenc
DTSTART;TZID=America/New_York:20250917T190000
DTEND;TZID=America/New_York:20250917T200000
CATEGORIES:webinar, -, zoom, meeting
LOCATION:Online
WEBSITE:https://us02web.zoom.us/webinar/register/1117568558479/WN_xds7
 j_meTne7HTwu2MNtxg#/registration
URL:https://us02web.zoom.us/webinar/register/1117568558479/WN_xds7j_me
 Tne7HTwu2MNtxg#/registration
CONTACT:
ORGANIZER:National Alopecia Areata Foundation
ATTACH;FMTTYPE="image/jpeg":https://storage.ning.com/topology/rest/1.0
 /file/get/12373149455?profile=original
ATTENDEE;ROLE=REQ-PARTICIPANT;PARTSTAT=ACCEPTED;RSVP=TRUE;CN=ANN:https
 ://alopeciaworld.com/profile/ANN613
ATTENDEE;ROLE=REQ-PARTICIPANT;PARTSTAT=ACCEPTED;RSVP=TRUE;CN=CALVIA:ht
 tps://alopeciaworld.com/profile/CALVIA
ATTENDEE;ROLE=REQ-PARTICIPANT;PARTSTAT=ACCEPTED;RSVP=TRUE;CN="Cheryl, 
 Co-founder":https://alopeciaworld.com/profile/cherylcarvery
END:VEVENT
END:VCALENDAR
