BEGIN:VCALENDAR
PRODID:NingEventWidget-v1
VERSION:2.0
METHOD:PUBLISH
BEGIN:VTIMEZONE
TZID:America/New_York
X-LIC-LOCATION:America/New_York
BEGIN:DAYLIGHT
TZOFFSETFROM:-0500
TZOFFSETTO:-0400
TZNAME:EDT
DTSTART:19700308T020000
RRULE:FREQ=YEARLY;BYMONTH=3;BYDAY=2SU
END:DAYLIGHT
BEGIN:STANDARD
TZOFFSETFROM:-0400
TZOFFSETTO:-0500
TZNAME:EST
DTSTART:19701101T020000
RRULE:FREQ=YEARLY;BYMONTH=11;BYDAY=1SU
END:STANDARD
END:VTIMEZONE
BEGIN:VEVENT
UID:2022678:Event:453411
DTSTAMP:20260419T193425Z
SUMMARY:Michigan International Alopecia Day – July 17th, 2010
DESCRIPTION:Alopecians in Michigan will celebrate International Alopec
 ia Day by raising awareness at the Royal Oak Antique & Garage Sale, wh
 ich will be attended by 10-15,000 people on July 17th, 2010.\n\nSHOW L
 OCATION & HOURS:\nYou can use 420 S. Lafayette, 48067 as a reference f
 or Google maps or your GPS.\n(Lafayette & Sixth St. Parking Structure)
 \nOur Booth number is S14\nThe show hours are from 9:30 AM – 6 PM.\n
 \nWHAT TO BRING:\nLawn or folding chairs for you and any guest that yo
 u bring\nA hat and sunscreen if needed\nA packed lunch or lunch money\
 n\nPARKING:\nParking will be available at the Oakland Community Colleg
 e:\n739 South Washington, Royal Oak, MI, click here for map and direct
 ions, Look for Red and Yellow signs.\n\nA shuttle will be running betw
 een the college parking lot and the Antique show between 5-10:30 am an
 d 5:-7:30 pm.\n\nIf these parking lots fill up, there is ample public 
 parking in Royal Oak, but be aware of the Parking meters.\n\nWHERE WE 
 WILL MEET:\nPlease meet at 9 AM at the booth (Booth # S14) to set up.\
 n\nPlease RSVP!\n\nFor more information visit https://alopeciaworld.co
 m/events/michigan-international
DTSTART;TZID=America/New_York:20100717T090000
DTEND;TZID=America/New_York:20100717T180000
CATEGORIES:awareness, campaign
LOCATION:Royal Oak Antique & Garage Sale
WEBSITE:
URL:
CONTACT:
ORGANIZER;CN="Cheryl, Co-founder":https://alopeciaworld.com/profile/ch
 erylcarvery
ATTACH;FMTTYPE="image/jpeg":http://storage.ning.com/topology/rest/1.0/
 file/get/2257345227?profile=original
ATTENDEE;ROLE=REQ-PARTICIPANT;PARTSTAT=ACCEPTED;RSVP=TRUE;CN="Pam Fitr
 os":https://alopeciaworld.com/profile/PamFitros
ATTENDEE;ROLE=REQ-PARTICIPANT;PARTSTAT=ACCEPTED;RSVP=TRUE;CN="Cheryl, 
 Co-founder":https://alopeciaworld.com/profile/cherylcarvery
ATTENDEE;ROLE=REQ-PARTICIPANT;PARTSTAT=TENTATIVE;RSVP=TRUE;CN=jessica:
 https://alopeciaworld.com/profile/jessica94
END:VEVENT
END:VCALENDAR
