BEGIN:VCALENDAR
PRODID:NingEventWidget-v1
VERSION:2.0
METHOD:PUBLISH
BEGIN:VTIMEZONE
TZID:America/New_York
X-LIC-LOCATION:America/New_York
BEGIN:DAYLIGHT
TZOFFSETFROM:-0500
TZOFFSETTO:-0400
TZNAME:EDT
DTSTART:19700308T020000
RRULE:FREQ=YEARLY;BYMONTH=3;BYDAY=2SU
END:DAYLIGHT
BEGIN:STANDARD
TZOFFSETFROM:-0400
TZOFFSETTO:-0500
TZNAME:EST
DTSTART:19701101T020000
RRULE:FREQ=YEARLY;BYMONTH=11;BYDAY=1SU
END:STANDARD
END:VTIMEZONE
BEGIN:VEVENT
UID:2022678:Event:1204270
DTSTAMP:20260425T231446Z
SUMMARY:NAAF Art Auction
DESCRIPTION:NAAF GWINNETT COUNTY SUPPORT GROUP IS HOSTING A CHARITY AU
 CTION AT THE GWINNETT CENTER OF THE GWINNETT ARENA THIS SATURDAY FROM 
 5-9PM. TICKETS ARE $5 AND INCLUDES DINNER, THERE WILL BE MUSIC, FOOD, 
 LIVE AUCTION AND SILENT AUCTION. ITEMS SUCH AS SPORTS MEMEROBILIA, CEL
 EBRITY MEMORIBILIA, COLLECTIBLE ITEMS, ART FOR HOME AND WORK, TRIPS TO
  ITALY, GIFT CARDS, GOLF PACKAGES, ZIPLINING PACKAGES AND ITEMS STARTI
 NG AT $5 AND NO BIDDING NECESSARY ONCE INSIDE THE DOORS...TICKETS AVAI
 LABLE AT THE DOOR.\nLink to online auction\nhttp://www.biddingowl.com/
 Auction/index.cfm?auctionID=2017&viewType=1 Link to event info\nhttp:/
 /www.gwinnettcenter.com/events/detail/art-auction-fundraiser Link to p
 urchase tickets http://www.elite100sports.com/events.html\n\n\nFor mor
 e information visit https://alopeciaworld.com/events/naaf-art-auction
DTSTART;TZID=America/New_York:20140802T170000
DTEND;TZID=America/New_York:20140802T210000
CATEGORIES:auction, fundraiser
LOCATION:Gwinnett Center at the Gwinnett Arena
WEBSITE:
URL:
CONTACT:
ORGANIZER;CN=buckeyfanaaron:https://alopeciaworld.com/profile/buckeyfa
 naaron
ATTACH;FMTTYPE="image/jpeg":http://storage.ning.com/topology/rest/1.0/
 file/get/2257531945?profile=original
ATTENDEE;ROLE=REQ-PARTICIPANT;PARTSTAT=ACCEPTED;RSVP=TRUE;CN=buckeyfan
 aaron:https://alopeciaworld.com/profile/buckeyfanaaron
END:VEVENT
END:VCALENDAR
