BEGIN:VCALENDAR
PRODID:NingEventWidget-v1
VERSION:2.0
METHOD:PUBLISH
BEGIN:VTIMEZONE
TZID:America/New_York
X-LIC-LOCATION:America/New_York
BEGIN:DAYLIGHT
TZOFFSETFROM:-0500
TZOFFSETTO:-0400
TZNAME:EDT
DTSTART:19700308T020000
RRULE:FREQ=YEARLY;BYMONTH=3;BYDAY=2SU
END:DAYLIGHT
BEGIN:STANDARD
TZOFFSETFROM:-0400
TZOFFSETTO:-0500
TZNAME:EST
DTSTART:19701101T020000
RRULE:FREQ=YEARLY;BYMONTH=11;BYDAY=1SU
END:STANDARD
END:VTIMEZONE
BEGIN:VEVENT
UID:2022678:Event:1072193
DTSTAMP:20260426T001807Z
SUMMARY:NAAF Conference 2014
DESCRIPTION: \n\nFor more information visit https://alopeciaworld.com
 /events/naaf-conference-2014
DTSTART;TZID=America/New_York:20140626T000000
DTEND;TZID=America/New_York:20140629T235900
CATEGORIES:conference
LOCATION:Hyatt Regency San Antonio, USA.
WEBSITE:http://www.naaf.org
URL:http://www.naaf.org
CONTACT:
ORGANIZER:NAAF
ATTACH;FMTTYPE="image/jpeg":http://storage.ning.com/topology/rest/1.0/
 file/get/2257485353?profile=original
ATTENDEE;ROLE=REQ-PARTICIPANT;PARTSTAT=ACCEPTED;RSVP=TRUE;CN=Brittany:
 https://alopeciaworld.com/profile/brittany
ATTENDEE;ROLE=REQ-PARTICIPANT;PARTSTAT=ACCEPTED;RSVP=TRUE;CN=Curly:htt
 ps://alopeciaworld.com/profile/funfixer
ATTENDEE;ROLE=REQ-PARTICIPANT;PARTSTAT=ACCEPTED;RSVP=TRUE;CN=Vee:https
 ://alopeciaworld.com/profile/Vee
ATTENDEE;ROLE=REQ-PARTICIPANT;PARTSTAT=ACCEPTED;RSVP=TRUE;CN="Makayla 
 M":https://alopeciaworld.com/profile/MakaylaMaddux
ATTENDEE;ROLE=REQ-PARTICIPANT;PARTSTAT=ACCEPTED;RSVP=TRUE;CN="MOHAMMED
  NAYEEM HOSSAIN BHUIYAN":https://alopeciaworld.com/profile/MOHAMMEDNAY
 EEMHOSSAINBHUIYAN
ATTENDEE;ROLE=REQ-PARTICIPANT;PARTSTAT=ACCEPTED;RSVP=TRUE;CN=Roger:htt
 ps://alopeciaworld.com/profile/Roger
ATTENDEE;ROLE=REQ-PARTICIPANT;PARTSTAT=ACCEPTED;RSVP=TRUE;CN=Dotty:htt
 ps://alopeciaworld.com/profile/Dotty
ATTENDEE;ROLE=REQ-PARTICIPANT;PARTSTAT=ACCEPTED;RSVP=TRUE;CN="Debbi Fu
 ller":https://alopeciaworld.com/profile/DebbiFuller
ATTENDEE;ROLE=REQ-PARTICIPANT;PARTSTAT=ACCEPTED;RSVP=TRUE;CN=JeffreySF
 :https://alopeciaworld.com/profile/Jeffrey
ATTENDEE;ROLE=REQ-PARTICIPANT;PARTSTAT=ACCEPTED;RSVP=TRUE;CN="Trish an
 d Angelica":https://alopeciaworld.com/profile/Trish
ATTENDEE;ROLE=REQ-PARTICIPANT;PARTSTAT=TENTATIVE;RSVP=TRUE;CN="John J 
 Steffen":https://alopeciaworld.com/profile/JohnJSteffen
ATTENDEE;ROLE=REQ-PARTICIPANT;PARTSTAT=TENTATIVE;RSVP=TRUE;CN=Ruthie:h
 ttps://alopeciaworld.com/profile/Ruthie
ATTENDEE;ROLE=REQ-PARTICIPANT;PARTSTAT=TENTATIVE;RSVP=TRUE;CN=randi042
 2:https://alopeciaworld.com/profile/randi0422
ATTENDEE;ROLE=REQ-PARTICIPANT;PARTSTAT=TENTATIVE;RSVP=TRUE;CN="Weston 
 D":https://alopeciaworld.com/profile/WestonD
ATTENDEE;ROLE=REQ-PARTICIPANT;PARTSTAT=TENTATIVE;RSVP=TRUE;CN=Izzy:htt
 ps://alopeciaworld.com/profile/cyndlemaesteiner
END:VEVENT
END:VCALENDAR
