BEGIN:VCALENDAR
PRODID:NingEventWidget-v1
VERSION:2.0
METHOD:PUBLISH
BEGIN:VTIMEZONE
TZID:America/New_York
X-LIC-LOCATION:America/New_York
BEGIN:DAYLIGHT
TZOFFSETFROM:-0500
TZOFFSETTO:-0400
TZNAME:EDT
DTSTART:19700308T020000
RRULE:FREQ=YEARLY;BYMONTH=3;BYDAY=2SU
END:DAYLIGHT
BEGIN:STANDARD
TZOFFSETFROM:-0400
TZOFFSETTO:-0500
TZNAME:EST
DTSTART:19701101T020000
RRULE:FREQ=YEARLY;BYMONTH=11;BYDAY=1SU
END:STANDARD
END:VTIMEZONE
BEGIN:VEVENT
UID:2022678:Event:1268867
DTSTAMP:20260426T002512Z
SUMMARY:NAAF International Alopecia Conference
DESCRIPTION:31th International Alopecia Conference.\n\nFor more inform
 ation visit https://alopeciaworld.com/events/naaf-international-alopec
 ia-conference
DTSTART;TZID=America/New_York:20160714T000000
DTEND;TZID=America/New_York:20160717T235900
CATEGORIES:conference
LOCATION:Washington DC
WEBSITE:http://washingtonregency.hyatt.com/en/hotel/home.html
URL:http://washingtonregency.hyatt.com/en/hotel/home.html
CONTACT:
ORGANIZER:NAAF
ATTACH;FMTTYPE="image/jpeg":http://storage.ning.com/topology/rest/1.0/
 file/get/2257566853?profile=original
ATTENDEE;ROLE=REQ-PARTICIPANT;PARTSTAT=ACCEPTED;RSVP=TRUE;CN=Sheri:htt
 ps://alopeciaworld.com/profile/Sheri646
ATTENDEE;ROLE=REQ-PARTICIPANT;PARTSTAT=ACCEPTED;RSVP=TRUE;CN=Brittany:
 https://alopeciaworld.com/profile/brittany
ATTENDEE;ROLE=REQ-PARTICIPANT;PARTSTAT=ACCEPTED;RSVP=TRUE;CN="Frida Lu
 na":https://alopeciaworld.com/profile/FridaLuna
ATTENDEE;ROLE=REQ-PARTICIPANT;PARTSTAT=ACCEPTED;RSVP=TRUE;CN=Natasha:h
 ttps://alopeciaworld.com/profile/TashaLomas
ATTENDEE;ROLE=REQ-PARTICIPANT;PARTSTAT=ACCEPTED;RSVP=TRUE;CN=Susan:htt
 ps://alopeciaworld.com/profile/Susan30
ATTENDEE;ROLE=REQ-PARTICIPANT;PARTSTAT=ACCEPTED;RSVP=TRUE;CN=Timothy:h
 ttps://alopeciaworld.com/profile/Timothy
ATTENDEE;ROLE=REQ-PARTICIPANT;PARTSTAT=ACCEPTED;RSVP=TRUE;CN=Roger:htt
 ps://alopeciaworld.com/profile/Roger
ATTENDEE;ROLE=REQ-PARTICIPANT;PARTSTAT=TENTATIVE;RSVP=TRUE;CN="debolin
 a m":https://alopeciaworld.com/profile/debolinam
ATTENDEE;ROLE=REQ-PARTICIPANT;PARTSTAT=TENTATIVE;RSVP=TRUE;CN=Hopeful1
 :https://alopeciaworld.com/profile/Hopeful1
ATTENDEE;ROLE=REQ-PARTICIPANT;PARTSTAT=TENTATIVE;RSVP=TRUE;CN=Leecee15
 :https://alopeciaworld.com/profile/Leecee15
ATTENDEE;ROLE=REQ-PARTICIPANT;PARTSTAT=TENTATIVE;RSVP=TRUE;CN=nataliec
 84:https://alopeciaworld.com/profile/nataliec84
ATTENDEE;ROLE=REQ-PARTICIPANT;PARTSTAT=TENTATIVE;RSVP=TRUE;CN=bunty:ht
 tps://alopeciaworld.com/profile/bunty422
ATTENDEE;ROLE=REQ-PARTICIPANT;PARTSTAT=TENTATIVE;RSVP=TRUE;CN=youarebe
 autiful:https://alopeciaworld.com/profile/goldengirl
ATTENDEE;ROLE=REQ-PARTICIPANT;PARTSTAT=TENTATIVE;RSVP=TRUE;CN=Free:htt
 ps://alopeciaworld.com/profile/Free
ATTENDEE;ROLE=REQ-PARTICIPANT;PARTSTAT=TENTATIVE;RSVP=TRUE;CN="Lori Po
 wers":https://alopeciaworld.com/profile/ReeHotfessional
END:VEVENT
END:VCALENDAR
