BEGIN:VCALENDAR
PRODID:NingEventWidget-v1
VERSION:2.0
METHOD:PUBLISH
BEGIN:VTIMEZONE
TZID:America/New_York
X-LIC-LOCATION:America/New_York
BEGIN:DAYLIGHT
TZOFFSETFROM:-0500
TZOFFSETTO:-0400
TZNAME:EDT
DTSTART:19700308T020000
RRULE:FREQ=YEARLY;BYMONTH=3;BYDAY=2SU
END:DAYLIGHT
BEGIN:STANDARD
TZOFFSETFROM:-0400
TZOFFSETTO:-0500
TZNAME:EST
DTSTART:19701101T020000
RRULE:FREQ=YEARLY;BYMONTH=11;BYDAY=1SU
END:STANDARD
END:VTIMEZONE
BEGIN:VEVENT
UID:2022678:Event:1979531
DTSTAMP:20260421T065019Z
SUMMARY:NAAF Webinar - Men & Alopecia Areata
DESCRIPTION:It’s time to talk about how alopecia areata affects men.
  Hear from a group of men to learn about some of the challenges they h
 ave faced living with this disease. This webinar will be moderated by 
 NAAF Board member, Tyrone Folliard-Olson, and will be an honest discus
 sion by panel members of experiences, struggles, and coping strategies
  – as well as answers to your questions.\n\nFor more information vis
 it https://alopeciaworld.com/events/naaf-webinar-men-alopecia-areata
DTSTART;TZID=America/New_York:20231115T160000
DTEND;TZID=America/New_York:20231115T180000
CATEGORIES:webinar
LOCATION:Online
WEBSITE:https://www.naaf.org/events/men-alopecia-areata-our-unique-exp
 eriences/
URL:https://www.naaf.org/events/men-alopecia-areata-our-unique-experie
 nces/
CONTACT:
ORGANIZER:NAAF
ATTACH;FMTTYPE="image/jpeg":https://storage.ning.com/topology/rest/1.0
 /file/get/12290754861?profile=original
ATTENDEE;ROLE=REQ-PARTICIPANT;PARTSTAT=ACCEPTED;RSVP=TRUE;CN="Cheryl, 
 Co-founder":https://alopeciaworld.com/profile/cherylcarvery
END:VEVENT
END:VCALENDAR
