BEGIN:VCALENDAR
PRODID:NingEventWidget-v1
VERSION:2.0
METHOD:PUBLISH
BEGIN:VTIMEZONE
TZID:America/New_York
X-LIC-LOCATION:America/New_York
BEGIN:DAYLIGHT
TZOFFSETFROM:-0500
TZOFFSETTO:-0400
TZNAME:EDT
DTSTART:19700308T020000
RRULE:FREQ=YEARLY;BYMONTH=3;BYDAY=2SU
END:DAYLIGHT
BEGIN:STANDARD
TZOFFSETFROM:-0400
TZOFFSETTO:-0500
TZNAME:EST
DTSTART:19701101T020000
RRULE:FREQ=YEARLY;BYMONTH=11;BYDAY=1SU
END:STANDARD
END:VTIMEZONE
BEGIN:VEVENT
UID:2022678:Event:1991442
DTSTAMP:20260421T164135Z
SUMMARY:Parenting a child with alopecia: Supporting your child without
  transferring the weight
DESCRIPTION:National Alopecia Areata Foundation (NAAF)\r\nWebinar\r\nT
 UESDAY, MARCH 10, 2026 4PM PST/ 6PM CST/ 7PM EST\r\nParenting a child 
 with alopecia areata can bring up complex emotions; grief, guilt, fear
 , and a deep desire to protect. While these feelings are natural, they
  can unintentionally add emotional weight to a child who is already na
 vigating their own experience. This webinar explores how parents can a
 cknowledge and process their own emotions without transferring that bu
 rden to their child.  Join Jonelle Massey, Licensed Mental Health The
 rapist and alopecia areata parent, for this informative presentation a
 nd Q&A session.\r\n\r\n\r\n\n\nFor more information visit https://alop
 eciaworld.com/events/parenting-a-child-with-alopecia-supporting-your-c
 hild-without-tra
DTSTART;TZID=America/New_York:20260310T190000
DTEND;TZID=America/New_York:20260310T200000
CATEGORIES:webinar
LOCATION:ONLINE
WEBSITE:https://www.naaf.org/watch-learn/upcoming-webinar/
URL:https://www.naaf.org/watch-learn/upcoming-webinar/
CONTACT:
ORGANIZER:National Alopecia Areata Foundation
ATTACH;FMTTYPE="image/jpeg":https://storage.ning.com/topology/rest/1.0
 /file/get/31095146288?profile=original
END:VEVENT
END:VCALENDAR
