BEGIN:VCALENDAR
PRODID:NingEventWidget-v1
VERSION:2.0
METHOD:PUBLISH
BEGIN:VTIMEZONE
TZID:America/New_York
X-LIC-LOCATION:America/New_York
BEGIN:DAYLIGHT
TZOFFSETFROM:-0500
TZOFFSETTO:-0400
TZNAME:EDT
DTSTART:19700308T020000
RRULE:FREQ=YEARLY;BYMONTH=3;BYDAY=2SU
END:DAYLIGHT
BEGIN:STANDARD
TZOFFSETFROM:-0400
TZOFFSETTO:-0500
TZNAME:EST
DTSTART:19701101T020000
RRULE:FREQ=YEARLY;BYMONTH=11;BYDAY=1SU
END:STANDARD
END:VTIMEZONE
BEGIN:VEVENT
UID:2022678:Event:969660
DTSTAMP:20260419T080715Z
SUMMARY:Radio Program on Alopecia and Foster Care
DESCRIPTION:I host an internet radio program which addresses issues re
 lated to foster care and would like to dedicate an episode to Alopecia
 .\nIs there anyone here who experienced Alopecia as a child in foster 
 care?\nI'm also interested in interviewing those who developed Alopeci
 a as adults, whether having experienced foster care or not.\nI can be 
 contacted at Ms.E@forachildsheart.orgPlease feel free to share this wi
 th others!\n\nFor more information visit https://alopeciaworld.com/eve
 nts/radio-program-on-alopecia-and-foster-care
DTSTART;TZID=America/New_York:20120929T000000
DTEND;TZID=America/New_York:20120929T235900
CATEGORIES:internet, radio, show
LOCATION:www.blogtalkradio.com/hearttalkwithmse
WEBSITE:http://www.blogtalkradio.com/hearttalkwithmse
URL:http://www.blogtalkradio.com/hearttalkwithmse
CONTACT:
ORGANIZER;CN="Ms. E":https://alopeciaworld.com/profile/MsE
ATTACH;FMTTYPE="image/jpeg":
ATTENDEE;ROLE=REQ-PARTICIPANT;PARTSTAT=ACCEPTED;RSVP=TRUE;CN="Ms. E":h
 ttps://alopeciaworld.com/profile/MsE
END:VEVENT
END:VCALENDAR
