BEGIN:VCALENDAR
PRODID:NingEventWidget-v1
VERSION:2.0
METHOD:PUBLISH
BEGIN:VTIMEZONE
TZID:America/New_York
X-LIC-LOCATION:America/New_York
BEGIN:DAYLIGHT
TZOFFSETFROM:-0500
TZOFFSETTO:-0400
TZNAME:EDT
DTSTART:19700308T020000
RRULE:FREQ=YEARLY;BYMONTH=3;BYDAY=2SU
END:DAYLIGHT
BEGIN:STANDARD
TZOFFSETFROM:-0400
TZOFFSETTO:-0500
TZNAME:EST
DTSTART:19701101T020000
RRULE:FREQ=YEARLY;BYMONTH=11;BYDAY=1SU
END:STANDARD
END:VTIMEZONE
BEGIN:VEVENT
UID:2022678:Event:1226015
DTSTAMP:20260426T002504Z
SUMMARY:REIGN An Alopecia  Movement
DESCRIPTION:\n\nFor more information visit https://alopeciaworld.com/e
 vents/reign-an-alopecia-movement
DTSTART;TZID=America/New_York:20141122T180000
DTEND;TZID=America/New_York:20141122T210000
CATEGORIES:empowerment, event
LOCATION:Edgewood Arts Building
WEBSITE:
URL:
CONTACT:rmmosby@yahoo.com
ORGANIZER:Rashida Mosby
ATTACH;FMTTYPE="image/jpeg":http://storage.ning.com/topology/rest/1.0/
 file/get/2257544104?profile=original
ATTENDEE;ROLE=REQ-PARTICIPANT;PARTSTAT=ACCEPTED;RSVP=TRUE;CN="Jameelah
  Fernanders":https://alopeciaworld.com/profile/JameelahFernanders
END:VEVENT
END:VCALENDAR
