BEGIN:VCALENDAR
PRODID:NingEventWidget-v1
VERSION:2.0
METHOD:PUBLISH
BEGIN:VTIMEZONE
TZID:America/New_York
X-LIC-LOCATION:America/New_York
BEGIN:DAYLIGHT
TZOFFSETFROM:-0500
TZOFFSETTO:-0400
TZNAME:EDT
DTSTART:19700308T020000
RRULE:FREQ=YEARLY;BYMONTH=3;BYDAY=2SU
END:DAYLIGHT
BEGIN:STANDARD
TZOFFSETFROM:-0400
TZOFFSETTO:-0500
TZNAME:EST
DTSTART:19701101T020000
RRULE:FREQ=YEARLY;BYMONTH=11;BYDAY=1SU
END:STANDARD
END:VTIMEZONE
BEGIN:VEVENT
UID:2022678:Event:1327436
DTSTAMP:20260425T210424Z
SUMMARY:Team up for alopecia areata awareness with the Brooklyn Cyclon
 es
DESCRIPTION:Come Help the Brooklyn Cyclones Spread Alopecia Areata Awa
 reness! #TeamUpForAlopeciaAreata  Date: Saturday, August 13, 2016 Time
 : 6:00 pm Tickets are $17 each with a portion of each sale going back 
 to the National Alopecia Areata Foundation. **Each tickets includes a 
 Field Box Seat Ticket, a Cyclones baseball hat, and A firework show po
 st-game!**  Contact me for more information.  Tickets are available at
 : https://www.groupmatics.events/#/event/NAAF\n\nFor more information 
 visit https://alopeciaworld.com/events/team-up-for-alopecia-areata-awa
 reness-with-the-brooklyn-cyclones
DTSTART;TZID=America/New_York:20160813T180000
DTEND;TZID=America/New_York:20160813T230000
CATEGORIES:awareness, day
LOCATION:MCU Park
WEBSITE:https://www.groupmatics.events/#/event/NAAF
URL:https://www.groupmatics.events/#/event/NAAF
CONTACT:
ORGANIZER;CN=Brittany:https://alopeciaworld.com/profile/brittany
ATTACH;FMTTYPE="image/jpeg":http://storage.ning.com/topology/rest/1.0/
 file/get/2257598810?profile=original
ATTENDEE;ROLE=REQ-PARTICIPANT;PARTSTAT=ACCEPTED;RSVP=TRUE;CN=Brittany:
 https://alopeciaworld.com/profile/brittany
END:VEVENT
END:VCALENDAR
