BEGIN:VCALENDAR
PRODID:NingEventWidget-v1
VERSION:2.0
METHOD:PUBLISH
BEGIN:VTIMEZONE
TZID:America/New_York
X-LIC-LOCATION:America/New_York
BEGIN:DAYLIGHT
TZOFFSETFROM:-0500
TZOFFSETTO:-0400
TZNAME:EDT
DTSTART:19700308T020000
RRULE:FREQ=YEARLY;BYMONTH=3;BYDAY=2SU
END:DAYLIGHT
BEGIN:STANDARD
TZOFFSETFROM:-0400
TZOFFSETTO:-0500
TZNAME:EST
DTSTART:19701101T020000
RRULE:FREQ=YEARLY;BYMONTH=11;BYDAY=1SU
END:STANDARD
END:VTIMEZONE
BEGIN:VEVENT
UID:2022678:Event:1984801
DTSTAMP:20260419T080624Z
SUMMARY:The Alopecia UK Big Weekend
DESCRIPTION:\r\nThe Alopecia UK Big Weekend is a weekend-long event de
 signed for adults affected by alopecia. The event is jam-packed with i
 nformative talks, research updates, workshops, an exhibitor hall full 
 of alopecia-related products & services and demonstrations, all within
  a relaxed and friendly atmosphere. \n\nFor more information visit ht
 tps://alopeciaworld.com/events/the-alopecia-uk-big-weekend
DTSTART;TZID=America/New_York:20250926T000000
DTEND;TZID=America/New_York:20250928T235900
CATEGORIES:conference
LOCATION:UK - Birmingham
WEBSITE:https://www.alopecia.org.uk/Event/alopecia-uk-big-weekend-2025
URL:https://www.alopecia.org.uk/Event/alopecia-uk-big-weekend-2025
CONTACT:
ORGANIZER:Alopecia UK
ATTACH;FMTTYPE="image/jpeg":https://storage.ning.com/topology/rest/1.0
 /file/get/13411083289?profile=original
ATTENDEE;ROLE=REQ-PARTICIPANT;PARTSTAT=TENTATIVE;RSVP=TRUE;CN="Cheryl,
  Co-founder":https://alopeciaworld.com/profile/cherylcarvery
END:VEVENT
END:VCALENDAR
