BEGIN:VCALENDAR
PRODID:NingEventWidget-v1
VERSION:2.0
METHOD:PUBLISH
BEGIN:VTIMEZONE
TZID:America/New_York
X-LIC-LOCATION:America/New_York
BEGIN:DAYLIGHT
TZOFFSETFROM:-0500
TZOFFSETTO:-0400
TZNAME:EDT
DTSTART:19700308T020000
RRULE:FREQ=YEARLY;BYMONTH=3;BYDAY=2SU
END:DAYLIGHT
BEGIN:STANDARD
TZOFFSETFROM:-0400
TZOFFSETTO:-0500
TZNAME:EST
DTSTART:19701101T020000
RRULE:FREQ=YEARLY;BYMONTH=11;BYDAY=1SU
END:STANDARD
END:VTIMEZONE
BEGIN:VEVENT
UID:2022678:Event:1987680
DTSTAMP:20260425T231552Z
SUMMARY:WALK FOR ALOPECIA™ - Walk Where You Are
DESCRIPTION:Support Group WALK FOR ALOPECIA™\n\nHosted by the Sterli
 ng Heights Support Group: The Sterling Heights Strollers\nFriends and 
 family are more than welcome to come with you!\n\nFor more information
  visit https://alopeciaworld.com/events/walk-for-alopecia-1
DTSTART;TZID=America/New_York:20250927T090000
DTEND;TZID=America/New_York:20250927T120000
CATEGORIES:fundraiser
LOCATION:Veterans Memorial Pointe
WEBSITE:
URL:
CONTACT:jbyszkowski@wowway.com
ORGANIZER;CN="Jan B.":https://alopeciaworld.com/profile/JanB
ATTACH;FMTTYPE="image/jpeg":
ATTENDEE;ROLE=REQ-PARTICIPANT;PARTSTAT=ACCEPTED;RSVP=TRUE;CN="Jan B.":
 https://alopeciaworld.com/profile/JanB
END:VEVENT
END:VCALENDAR
