BEGIN:VCALENDAR
PRODID:NingEventWidget-v1
VERSION:2.0
METHOD:PUBLISH
BEGIN:VTIMEZONE
TZID:America/New_York
X-LIC-LOCATION:America/New_York
BEGIN:DAYLIGHT
TZOFFSETFROM:-0500
TZOFFSETTO:-0400
TZNAME:EDT
DTSTART:19700308T020000
RRULE:FREQ=YEARLY;BYMONTH=3;BYDAY=2SU
END:DAYLIGHT
BEGIN:STANDARD
TZOFFSETFROM:-0400
TZOFFSETTO:-0500
TZNAME:EST
DTSTART:19701101T020000
RRULE:FREQ=YEARLY;BYMONTH=11;BYDAY=1SU
END:STANDARD
END:VTIMEZONE
BEGIN:VEVENT
UID:2022678:Event:1984902
DTSTAMP:20260426T002406Z
SUMMARY:Walk for Alopecia
DESCRIPTION:\r\nThe National Alopecia Areata Foundation’s (NAAF) 3n
 d Annual Walk For Alopecia™ is the finale of Alopecia Areata Awaren
 ess Month and it will once again bring the alopecia areata community o
 f families, caregivers, friends, co-workers, and healthcare profession
 als together to help drive research for better treatments and a cure, 
 increase support, advocate for change, and end stigma. In 2024, the 2
 nd Annual Walk For Alopecia™ was a tremendous success engaging tho
 usands across the country, increasing public awareness of alopecia are
 ata and raising more than $950,000 to support alopecia areata services
  and research. The 2025 Walk will build on this achievement, engagin
 g more people in more communities who want to do something about alope
 cia areata. With an event site in San Francisco, select volunteer site
 s around the country, and locally activating do-it-yourself Walk Where
  You Are teams, there is opportunity for everyone, everywhere to show 
 the world that it is not just hair! Interested in being a sponsor or
  serving in a volunteer leadership role or being on a site committee?
  Please contact us at walk@naaf.org. \n\nFor more information visi
 t https://alopeciaworld.com/events/walk-for-alopecia
DTSTART;TZID=America/New_York:20250927T000000
DTEND;TZID=America/New_York:20250927T235900
CATEGORIES:fundraising, event
LOCATION:Contact www.naaf.org
WEBSITE:
URL:
CONTACT:
ORGANIZER:National Alopecia Areata Foundation (NAAF)
ATTACH;FMTTYPE="image/jpeg":https://storage.ning.com/topology/rest/1.0
 /file/get/13410838070?profile=original
ATTENDEE;ROLE=REQ-PARTICIPANT;PARTSTAT=TENTATIVE;RSVP=TRUE;CN="Cheryl,
  Co-founder":https://alopeciaworld.com/profile/cherylcarvery
END:VEVENT
END:VCALENDAR
